BEGIN:VCALENDAR
VERSION:2.0
PRODID:-//ChamberMaster//Event Calendar 2.0//EN
METHOD:PUBLISH
X-PUBLISHED-TTL:P3D
REFRESH-INTERVAL:P3D
CALSCALE:GREGORIAN
BEGIN:VEVENT
DTSTART;VALUE=DATE:20080505
DTEND;VALUE=DATE:20080506
TRANSP:TRANSPARENT
X-MICROSOFT-CDO-ALLDAYEVENT:TRUE
SUMMARY:Spring Golf Tournament
DESCRIPTION:Spring Golf Dalton Golf & Country Club PM Tee Times May 5\, 2008
X-ALT-DESC;FMTTYPE=text/html:<p>Spring Golf Dalton Golf &amp\; Country Club PM Tee Times May 5\, 2008</p>
LOCATION:
UID:e.9472.1
SEQUENCE:3
DTSTAMP:20260422T185708Z
URL:http://hbagctn.memberzone.com/events/details/spring-golf-tournament-05-05-2008-1
END:VEVENT

END:VCALENDAR
